Workbook
Name 休所実施状況: プルダウン!$J$3:$J$6
Name 区分: プルダウン!$B$3:$B$4
Name 決算月: プルダウン!$F$3:$F$14
Name 構成団体一覧: プルダウン!$D$3:$D$11
Name 都道府県名: プルダウン!$H$3:$H$49

Sheet 調査票
A1: フル名称 | B1: =LEN(C1) -> 88 | C1: {=CELL("filename",C1)} -> \\192.168.1.222\Share\0900_経営実態調査事業\0800_2026年度調査\3000_発信メール\[調査票2026（会社名_■□建設）.xlsx]調査票 | AH1: No. | AI1: 1 | AJ1: 1-2 | AK1: 2 | AL1: 3 | AM1: 3-2 | AN1: 4 | AO1: 4-2 | AP1: 5 | AQ1: 5-2 | AR1: 5-3 | AS1: 6 | AT1: 7 | AU1: 8 | AV1: 9 | AW1: 10 | AX1: 10-2 | AY1: 10-3 | AZ1: 11 | BA1: 12 | BB1: 12-2 | BC1: 12-3 | BD1: 12-4 | BE1: 13 | BF1: 13-2 | BG1: 13-3 | BH1: 13-4 | BI1: 13-5 | BJ1: 13-6 | BK1: 13-7 | BL1: 13-8 | BM1: 13-9 | BN1: 13-10 | BO1: 13-11 | BP1: 14 | BQ1: 14-2 | BR1: 14-3 | BS1: 14-4 | BT1: 14-5 | BU1: 15 | BV1: 15-2 | BW1: 15-3 | BX1: 15-4 | BY1: 16 | BZ1: 16-2 | CA1: 17 | CB1: 17-2 | CC1: 17-3 | CD1: 17-4 | CE1: 17-5 | CF1: 18 | CG1: 19 | CH1: 20
A2: パス名 | B2: =LEN(C2) -> 61 | C2: {=LEFT(CELL("filename",C2),FIND("[",CELL("filename",C2))-1)} -> \\192.168.1.222\Share\0900_経営実態調査事業\0800_2026年度調査\3000_発信メール\ | F2: シート名の開始位置 | G2: =LEN(H2) -> 85 | H2: {=LEFT(CELL("filename",H2),FIND("]",CELL("filename",H2)))} -> \\192.168.1.222\Share\0900_経営実態調査事業\0800_2026年度調査\3000_発信メール\[調査票2026（会社名_■□建設）.xlsx] | AH2: 項目 | AI2: 会社名 | AJ2: フリガナ | AK2: CCUS事業者ID | AL2: 日本軀体構成団体 会員有無 | AM2: 所属団体 | AN2: 代表者役職・ 氏名 | AP2: 会社所在地 | AS2: 会社代表電話 | AT2: 会社設立年月 | AU2: 資本金 | AV2: 決算月 | AW2: 本調査の連絡先 | AZ2: 完工高 | BA2: 従業員数 | BE2: 有資格者 | BQ2: CCUS登録技能者の 能力評価レベルごと の人数 (保有カードの色別内訳) | BU2: 主要取引先 (総合工事業者） | BY2: 協力会社(下請) への依存度 | CA2: 専属協力会社(下請) | CF2: 4週8休所の 実施状況 | CG2: 計算基準日 | CH2: 確認メッセージ
A3: ファイル名 | B3: =B1-B2-(B1-G2) -> 24 | C3: =MID(C1,B2+2,B3-2) -> 調査票2026（会社名_■□建設）.xlsx | AH3: 時刻 | AI3: 正式社名 | AJ3: 大文字変換処理 | AK3: ID | AL3: 会員有無 | AM3: 構成団体名 | AN3: 代表者役職 | AO3: 氏名 | AP3: 郵便番号 | AQ3: 都道府県 | AR3: 市区町村以下（変換なし） | AS3: 電話番号 | AT3: 設立年月 | AU3: 資本金 | AV3: 決算月 | AW3: ご担当者氏名 | AX3: メールアドレス | AY3: メールアドレス | AZ3: 万円単位完工高 | BA3: 全従業員数 | BB3: うち とびの人数 | BC3: うち 土工の人数 | BD3: その他(とび・土工以外) | BE3: 建築士_1級 | BF3: 建築士_2級 | BG3: 土木施工管理技士_1級 | BH3: 土木施工管理技士_2級 | BI3: 建築施工管理技士_1級 | BJ3: 建築施工管理技士_2級 | BK3: とび技能士_1級 | BL3: とび技能士_2級 | BM3: コンクリート打込み・締固め工_1級 | BN3: コンクリート打込み・締固め工_2級 | BO3: 登録鳶・土工基幹技能者 | BP3: CCUSに登録済の技能者数 | BQ3: 能力評価 レベル「4」の人数 (ゴールドカード取得者数) | BR3: 能力評価 レベル「3」の人数 (シルバーカード取得者数) | BS3: 能力評価 レベル「2」の人数 (ブルーカード取得者数) | BT3: 能力評価 レベル「1」の人数 (ホワイトカード取得者数) | BU3: 1 | BV3: 2 | BW3: 3 | BX3: 4 | BY3: 「あり」「なし」 | BZ3: 依存度% | CA3: とび土工 | CB3: とび | CC3: 土工 | CD3: 機械土工 | CE3: 専属協力会社 (下請)労働者 | CF3: 4週8休所の 実施状況 | CG3: 計算基準日 | CH3: 表示数
AH4: =NOW() -> 46296.314 | AI4: =M14 -> 0 | AJ4: =DBCS(M15) | AK4: =N16&O16&P16&Q16&R16&S16&T16 -> ---22 | AL4: =M17 -> 会員 | AM4: =Q17 -> 0 | AN4: =N18 -> 0 | AO4: =R18 -> 0 | AP4: =Q19 | AQ4: =M20 -> 0 | AR4: =M21 -> 0 | AS4: =S22 | AT4: =R23 | AU4: =M24 -> 0 | AV4: =M25 -> 0 | AW4: =M26 -> 0 | AX4: =M27&Q27&R27 -> @ | AY4: =M28&Q28&R28 -> @ | AZ4: =M29 -> 0 | BA4: =M30 -> 0 | BB4: =M31 -> 0 | BC4: =M32 -> 0 | BD4: =M33 -> 0 | BE4: =P35 -> 0 | BF4: =R35 -> 0 | BG4: =P36 -> 0 | BH4: =R36 -> 0 | BI4: =P37 -> 0 | BJ4: =R37 -> 0 | BK4: =P38 -> 0 | BL4: =R38 -> 0 | BM4: =P39 -> 0 | BN4: =R39 -> 0 | BO4: =Q40 -> 0 | BP4: =M41 -> 0 | BQ4: =M42 -> 0 | BR4: =M43 -> 0 | BS4: =M44 -> 0 | BT4: =M45 -> 0 | BU4: =M46 -> 0 | BV4: =Q46 -> 0 | BW4: =M47 -> 0 | BX4: =Q47 -> 0 | BY4: =M49 -> 0 | BZ4: =Q49 -> 0 | CA4: =M50 -> 0 | CB4: =M51 -> 0 | CC4: =M52 -> 0 | CD4: =M53 -> 0 | CE4: =M54 -> 0 | CF4: =M55 -> 0 | CG4: =R11 -> 46327 | CH4: =V11
AH5: =IF(OR(AH4="",AH4=0),"",AH4) -> 46296.314 | AI5: =IF(OR(AI4="",AI4=0),"",AI4) | AJ5: =IF(OR(AJ4="",AJ4=0),"",AJ4) | AK5: =IF(OR(AK4="",AK4=0),"",ASC(AK4)) -> ---22 | AL5: =IF(OR(AL4="",AL4=0),"",AL4) -> 会員 | AM5: =IF(OR(AM4="",AM4=0),"",AM4) | AN5: =IF(OR(AN4="",AN4=0),"",AN4) | AO5: =IF(OR(AO4="",AO4=0),"",AO4) | AP5: =IF(OR(AP4="",AP4=0),"",AP4) | AQ5: =IF(OR(AQ4="",AQ4=0),"",AQ4) | AR5: =IF(OR(AR4="",AR4=0),"",AR4) | AS5: =IF(OR(AS4="",AS4=0),"",AS4) | ... BY5: =IF(OR(BY4="",BY4=0),"",BY4) | BZ5: =IF(OR(BZ4="",BZ4=0),"",BZ4/100) | CA5: =IF(OR(CA4="",CA4=0),"",CA4) | CB5: =IF(OR(CB4="",CB4=0),"",CB4) | CC5: =IF(OR(CC4="",CC4=0),"",CC4) | CD5: =IF(OR(CD4="",CD4=0),"",CD4) | CE5: =IF(OR(CE4="",CE4=0),"",CE4) | CF5: =IF(OR(CF4="",CF4=0),"",CF4) | CG5: =IF(OR(CG4="",CG4=0),"",CG4) -> 46327 | CH5: =IF(OR(CH4="",CH4=0),"",CH4)
AE10: =EOMONTH(TODAY(),0)+1 -> 46327 | AF10: ←翌月1日
B11: 全国とび・土工工事業経営実態調査 「調査票」 | P11: 基準日 | R11: =IF(AE11<>"",AE11,AE10) -> 46327 | U11: ★ | V11: =IF(OR(COUNTIF(U14:U55,"★")=0,M14=""),"",COUNTIF(U14:U55,"★")) | AF11: ←計算基準日を変更する場合(入力例 : 2021/4/1)
B12: ※本調査票に入力頂いた内容が、原則、そのまま調査冊子に掲載されますので、隣の「入力内容点検シート」をプリントのうえご確認くださいますようお願いいたします。 | V12: Ver.20251021
B13: No. | C13: 項目 | D13: 補足 | E13: 入力見本 | M13: ご回答欄 | U13: 確認メッセージ | Y13: 入力有無 | Z13: メッセージ 表示有無 | AA13: エラー1 | AB13: 確認メッセージ1 | AC13: エラー2 | AD13: 確認メッセージ2
B14: 1 | C14: 会社名 | D14: 商号(〇〇建設等)と会社形態(株式会社等)の間は全角スペース | E14: 東京建設 株式会社 | U14: =IF(V14="","","★") -> ★ | V14: =IF(AND(Z14="表示",AA14="×"),AB14,"") -> 会社形態(「株式会社」「有限会社」等)を含む「正式名称」を入力してください。 | Y14: =IF(M14<>"","有","") | Z14: =IF(Y14<>"有","表示","") -> 表示 | AA14: =IFERROR(IF(FIND("会社",$M14)>0,"〇","×"),"×") -> × | AB14: 会社形態(「株式会社」「有限会社」等)を含む「正式名称」を入力してください。
D15: フリガナ（全角） | E15: トウキョウケンセツ カブシキガイシャ | U15: =IF(V15="","","★") | V15: =IF(AND(Z15="表示",AA15="×"),AB15,"") | Y15: =IF(M15<>"","有","") | Z15: =IF($Y$14="有","表示","") | AA15: =IF(M15<>"","〇","×") -> × | AB15: 正式名称を「カナ」で入力してください
B16: 2 | C16: 建設キャリアアップシステム 事業者ID | D16: 半角数字で12桁入力 （下2桁「22」は除く） | F16: 1234 | G16: - | H16: 5678 | I16: - | J16: 9012 | K16: - | L16: 22 | O16: - | Q16: - | S16: - | T16: 22 | U16: =IF(V16="","","★") | V16: =IF(AND(Z16="表示",AA16="×"),AB16,"") | Y16: =IF(M16<>"","有","") | Z16: =IF($Y$14="有","表示","") | AA16: =IF(AND(N16<>"",P16<>"",R16<>""),"〇","×") -> × | AB16: CCUSの事業者ID（4桁-4桁-4桁）を入力してください
B17: 3 | C17: 日本軀体構成団体の 会員有無（所属団体） | D17: 会員・非会員区分 ※会員の場合は所属団体を選択 | E17: 会員 | H17: 所属団体 | I17: 東京建設軀体工業協同組合 | M17: 会員 | P17: 所属団体 | U17: =IF(V17="","","★") | V17: =IF(AND(Z17="表示",AA17="×"),AB17,"") | Y17: =IF(M17<>"","有","") -> 有 | Z17: =IF(AND($Y$14="有",M17<>"非会員"),"表示","") | AA17: =IF(Q17<>"","〇","×") -> × | AB17: 所属する構成団体をプルダウンの中から選択してください
B18: 4 | C18: 代表者役職・氏名 | D18: 姓と名の間は全角スペース | E18: 役職 | F18: 代表取締役社長 | I18: 氏名 | J18: 鈴木 一朗 | M18: 役職 | Q18: 氏名 | U18: =IF(V18="","","★") | V18: =IF(AND(Z18="表示",AA18="×"),AB18,"") | Y18: =IF(AND(N18<>"",R18<>""),"有","") | Z18: =IF($Y$14="有","表示","") | AA18: =IF(AND(N18<>"",R18<>""),"〇","×") -> × | AB18: 代表者の「役職」・「氏名」を入力してください
B19: 5 | C19: 会社所在地 | D19: 郵便番号（半角数字） | E19: 170 | G19: - | H19: 0013 | I19: =IF(E19="","",ASC(E19&G19&H19)) -> 170-0013 | K19: =IF(E19="","",ASC(E19&G19&H19&I19&J19)) -> 170-0013170-0013 | O19: - | Q19: =IF(M19="","",ASC(M19&O19&P19)) | S19: =IF(M19="","",ASC(M19&O19&P19&Q19&R19)) | U19: =IF(V19="","","★") | V19: =IF(AND(Z19="表示",AA19="×"),AB19,"") | Y19: =IF(AND(M19<>"",P19<>""),"有","") | Z19: =IF($Y$14="有","表示","") | AA19: =IF(AND(M19<>"",P19<>""),"〇","×") -> × | AB19: 郵便番号を「半角数字」で入力してください
B20: =B18+1 -> 5 | D20: 都道府県 | E20: 東京都 | U20: =IF(V20="","","★") | V20: =IF(AND(Z20="表示",AA20="×"),AB20,"") | Y20: =IF(M20<>"","有","") | Z20: =IF($Y$14="有","表示","") | AA20: =IF(M20<>"","〇","×") -> × | AB20: 都道府県名をプルダウンから選択してください
B21: =B19+1 -> 6 | D21: 市区町村以下（数字は半角） | E21: 豊島区東豊島町1-2-30 東豊島パークビル5階 | U21: =IF(V21="","","★") | V21: =IF(AND(Z21="表示",AA21="×"),AB21,"") | Y21: =IF(M21<>"","有","") | Z21: =IF($Y$14="有","表示","") | AA21: =IF(M21<>"","〇","×") -> × | AB21: 市区町村・番地を入力してください（数字は半角）
B22: 6 | C22: 会社代表電話 | D22: 電話番号（半角数字） | E22: 03 | G22: - | H22: 1111 | I22: - | J22: 2222 | K22: =IF(E22="","",E22&G22&H22&I22&J22) -> 03-1111-2222 | O22: - | Q22: - | S22: =IF(M22="","",ASC(M22&O22&P22&Q22&R22)) | U22: =IF(V22="","","★") | V22: =IF(AND(Z22="表示",AA22="×"),AB22,"") | Y22: =IF(AND(N22<>"",P22<>"",R22<>""),"有","") | Z22: =IF($Y$14="有","表示","") | AA22: =IF(AND(M22<>"",P22<>"",R22<>""),"〇","×") -> × | AB22: 電話番号を市外局番から半角数字で入力してください
B23: 7 | C23: 会社設立年月 | D23: 西暦で入力 | E23: 西暦 | F23: 1955 | G23: 年 | H23: 10 | I23: 月 | J23: =IF(F23&H23="","",IFERROR(VALUE(CONCATENATE(F23,"/",H23,"/1")),"設立年月エラー")) -> 20363 | M23: 西暦 | O23: 年 | Q23: 月 | R23: =IF(P23="","",IFERROR(VALUE(CONCATENATE(N23,"/",P23,"/1")),"設立年月エラー")) | U23: =IF(V23="","","★") | V23: =IF(AND(Z23="表示",AA23="×"),AB23,"") | Y23: =IF(AND(N23<>"",P23<>""),"有","") | Z23: =IF($Y$14="有","表示","") | AA23: =IF(AND(N23<>"",P23<>""),"〇","×") -> × | AB23: 会社の「設立年月」を西暦で入力してください
B24: 8 | C24: 資本金 | D24: 万円単位 | E24: 5000 | I24: 万円 | Q24: 万円 | R24: =IF(OR(M24="",LEN(M24)<5),"",ROUNDDOWN(M24,-3)/10000) | U24: =IF(V24="","","★") | V24: =IF(AND(Z24="表示",AA24="×"),AB24,"") | Y24: =IF(M24<>"","有","") | Z24: =IF($Y$14="有","表示","") | AA24: =IF(M24<>"","〇","×") -> × | AB24: 資本金を「万円単位」で入力してください
B25: 9 | C25: 決算月 | D25: 直近年度の決算月を選択 | E25: 1 | U25: =IF(V25="","","★") | V25: =IF(AND(Z25="表示",AA25="×"),AB25,"") | Y25: =IF(M25<>"","有","") | Z25: =IF($Y$14="有","表示","") | AA25: =IF(M25<>"","〇","×") -> × | AB25: 直近年度の決算月をプルダウンから選択してください
B26: 10 | C26: 本調査の連絡先 | D26: ご担当者名 姓と名の間は全角スペース | E26: 山本 花子 | U26: =IF(V26="","","★") | V26: =IF(AND(Z26="表示",AA26="×"),AB26,"") | Y26: =IF(M26<>"","有","") | Z26: =IF($Y$14="有","表示","") | AA26: =IF(M26<>"","〇","×") -> × | AB26: 本調査のご担当者(連絡先)の氏名を入力してください
C27: ご担当者の氏名 | D27: メールアドレス（半角英数字） | E27: info | I27: @ | J27: tokyokensetsu.co.jp | Q27: @ | U27: =IF(V27="","","★") | V27: =IF(AND(Z27="表示",AA27="×"),AB27,"") | Y27: =IF(M27<>"","有","") | Z27: =IF($Y$14="有","表示","") | AA27: =IF(AND(R28<>"",R22<>""),"〇","×") -> × | AB27: 本調査の連絡先メールアドレスを半角で入力してください | AD27: =CONCATENATE(M27,Q27,R27) -> @
C28: メールアドレス | D28: 確認のため再入力 | E28: info | I28: @ | J28: tokyokensetsu.co.jp | Q28: @ | U28: =IF(V28="","","★") | V28: =IF(AND(Z28="表示",AA28="×"),AB28,"") | Y28: =IF(M28<>"","有","") | Z28: =IF($Y$14="有","表示","") | AA28: =IF(AD27=AD28,"〇","×") -> 〇 | AB28: メールアドレスが一致していません。ご確認ください | AD28: =CONCATENATE(M28,Q28,R28) -> @
B29: 11 | C29: 完工高 | D29: 直近の決算年度の実績 単位：万円 | E29: 124000 | I29: 万円 | J29: =IF(E29="","",ROUNDDOWN(E29,-3)/10000) -> 12.4 | Q29: 万円 | R29: =IF(OR(M29="",LEN(M29)<5),"",ROUNDDOWN(M29,-3)/10000) | U29: =IF(V29="","","★") | V29: =IF(AND(Z29="表示",AA29="×"),AB29,"") | Y29: =IF(M29<>"","有","") | Z29: =IF($Y$14="有","表示","") | AA29: =IF(M29<>"","〇","×") -> × | AB29: 完工高を「万円単位」で入力してください
B30: 12 | C30: 従業員数 | D30: 全従業員数 | E30: 20 | G30: 人 | O30: 人 | U30: =IF(V30="","","★") | V30: =IF(AND(Z30="表示",AA30="×"),AB30,"") | Y30: =IF(M30<>"","有","") | Z30: =IF($Y$14="有","表示","") | AA30: =IF(M30<>"","〇","×") -> × | AB30: 技能者以外を含む「全従業員数」を入力してください
B31: =B30+1 -> 13 | D31: うち とびの人数 | E31: 8 | G31: 人 | O31: 人 | U31: =IF(V31="","","★") | V31: =IF(AND(Z31="表示",AA31="×"),AB31,"") | Y31: =IF(M31<>"","有","") | Z31: =IF($Y$14="有","表示","") | AA31: =IF(OR((M31&M32)<>"",SUM(M31:N32)<>0),"〇","×") -> × | AB31: うち「とび」の人数、「土工」の人数を入力してください
B32: =B31+1 -> 14 | D32: うち 土工の人数 | E32: 7 | G32: 人 | O32: 人 | Y32: =IF(M32<>"","有","") | Z32: =IF($Y$14="有","表示","")
B33: =B32+1 -> 15 | D33: その他(とび・土工以外) | E33: =E30-(E31+E32) -> 5 | G33: 人 | M33: =M30-(M31+M32) -> 0 | O33: 人 | U33: =IF(V33="","","★") | V33: =IF(AND(Z33="表示",AA33="×"),AB33,"") | Y33: =IF(M33<>"","有","") -> 有 | Z33: =IF($Y$14="有","表示","") | AA33: =IF(M33<0,"×","〇") -> 〇 | AB33: とび・土工以外の人数がマイナスとなっていますので、ご確認ください。
B34: 13 | C34: 有資格者 | D34: 右記6つの資格保有者の人数 （ひとりが複数の資格を保有している場合は、それぞれにカウント） | E34: 資格名 | H34: １級 | J34: ２級 | M34: 資格名 | P34: １級 | R34: ２級 | T34: =SUM(P35:P39)+SUM(R35:R39)+Q40 -> 0 | V34: =IF(AND(Z34="表示",AA34="×"),AB34,"") | Y34: =IF(M34<>"","有","") -> 有
E35: 建築士 | I35: 人 | K35: 人 | M35: 建築士 | Q35: 人 | S35: 人 | U35: =IF(V35="","","★") | V35: =IF(AND(Z35="表示",AA35="×"),AB35,"") | Y35: =IF(M35<>"","有","") -> 有 | Z35: =IF($Y$14="有","表示","") | AA35: =IF(OR((P35&P36&P37&P38&P39&R35&R36&R37&R38&R39&Q40)<>"",(SUM(P35:P39)+SUM(R35:R39)+Q40)<>0),"〇","×") -> × | AB35: 記載の6つの資格（1・2級別）の保有者数を入力してください。
E36: 土木施工管理技士 | H36: 3 | I36: 人 | J36: 2 | K36: 人 | M36: 土木施工管理技士 | Q36: 人 | S36: 人 | U36: =IF(V36="","","★") | Y36: =IF(M36<>"","有","") -> 有
E37: 建築施工管理技士 | I37: 人 | K37: 人 | M37: 建築施工管理技士 | Q37: 人 | S37: 人 | U37: =IF(V37="","","★") | Y37: =IF(M37<>"","有","") -> 有
E38: とび技能士 | H38: 3 | I38: 人 | J38: 2 | K38: 人 | M38: とび技能士 | Q38: 人 | S38: 人 | U38: =IF(V38="","","★") | Y38: =IF(M38<>"","有","") -> 有
E39: 日本躯体コンクリート打込み・締固め工 | H39: 2 | I39: 人 | K39: 人 | M39: 日本躯体コンクリート打込み・締固め工 | Q39: 人 | S39: 人 | U39: =IF(V39="","","★") | Y39: =IF(M39<>"","有","") -> 有
E40: 登録鳶・土工基幹技能者 | I40: 3 | K40: 人 | M40: 登録鳶・土工基幹技能者 | S40: 人 | U40: =IF(V40="","","★") | Y40: =IF(M40<>"","有","") -> 有
D41: CCUSに登録済の技能者数 | E41: =H45 -> 8 | G41: 人 | M41: =P45 -> 0 | O41: 人 | V41: =IF(AND(Z41="表示",AA41="×"),AB41,"") | Y41: =IF(M41<>"","有","") -> 有 | Z41: =IF($Y$14="有","表示","") | AA41: =IF(M41="","",IF(M41>M30,"×","○")) -> ○ | AB41: CCUS登録済人数が「全従業員数」を上回っています
B42: 14 | C42: CCUS登録技能者の 能力評価レベルごと の人数 (保有カードの色別内訳) | D42: 能力評価 レベル「4」の人数 (ゴールドカード取得技能者数) | E42: 2 | G42: 人 | O42: 人 | U42: =IF(V42="","","★") | V42: =IF(AND(Z42="表示",AA42="×"),AB42,"") | Y42: =IF(M42<>"","有","") | Z42: =IF($Y$14="有","表示","") | AA42: =IF(P45=0,"×","〇") -> × | AB42: 「レベル1～4」の各人数を入力してください。
D43: 能力評価 レベル「3」の人数 (シルバーカード取得技能者数) | E43: 3 | G43: 人 | H43: レベル1～4の合計人数 | O43: 人 | P43: レベル1～4の合計人数 | V43: =IF(AND(Z43="表示",AA43="×"),AB43,"") | Y43: =IF(M43<>"","有","") | Z43: =IF($Y$14="有","表示","")
D44: 能力評価 レベル「2」の人数 (ブルーカード取得技能者数) | E44: 1 | G44: 人 | H44: （CCUS登録済技能者数） | O44: 人 | P44: （CCUS登録済技能者数） | U44: =IF(V44="","","★") | V44: =IF(AND(Z44="表示",AA44="×"),AB44,"") | Y44: =IF(M44<>"","有","") | Z44: =IF($Y$14="有","表示","") | AA44: =IF(M30<P45,"×","〇") -> 〇 | AB44: 「レベル1～4」の合計人数が「No.12の全従業員数」を超えていますので、ご確認ください。
D45: 能力評価 レベル「1」の人数 (ホワイトカード取得技能者数) | E45: 2 | G45: 人 | H45: =SUM(E42:F45) -> 8 | K45: 人 | O45: 人 | P45: =SUM(M42:N45) -> 0 | S45: 人 | V45: =IF(AND(Z45="表示",AA45="×"),AB45,"") | Y45: =IF(M45<>"","有","") | Z45: =IF($Y$14="有","表示","")
B46: 15 | C46: 主要取引先 (総合工事業者） | D46: ㈱を含めて入力 (4企業まで) | E46: 鹿島建設(株) | I46: 戸田建設(株) | U46: =IF(V46="","","★") | V46: =IF(AND(Z46="表示",AA46="×"),AB46,"") | Y46: =IF(M46<>"","有","") | Z46: =IF($Y$14="有","表示","") | AA46: =IF(M46<>"","〇","×") -> × | AB46: 主要取引先（4企業まで）を入力してください
E47: 大成建設（株） | V47: =IF(AND(Z47="表示",AA47="×"),AB47,"") | Y47: =IF(M47<>"","有","") | Z47: =IF($Y$14="有","表示","")
B48: 16 | C48: 協力会社(下請) への依存度 | D48: 「あり」「なし」いずれか選択 ありは依存度を[%]で入力 | E48: 協力会社(下請)への依存有無 | I48: 依存ありの場合、その依存度 | M48: 協力会社(下請)への依存有無 | Q48: 「依存あり」の場合、その依存度 | U48: =IF(V48="","","★") | V48: =IF(AND(Z49="表示",AA49="×"),AB49,"") | Y48: =IF(M48<>"","有","") -> 有 | Z48: =IF($Y$14="有","表示","")
E49: あり | I49: 60 | K49: % | S49: % | V49: =IF(AND(Z49="表示",AA49="×"),AB49,"") | Y49: =IF(M49<>"","有","") | Z49: =IF($Y$14="有","表示","") | AA49: =IF(OR(M49="なし",AND(M49="あり",Q49<>"")),"〇","×") -> × | AB49: 下請けへの依存の有無を選択してください （「あり」の場合は、その依存度も入力してください）
B50: 17 | C50: 専属協力会社(下請) | D50: とび土工 | E50: 4 | G50: 社 | O50: 社 | U50: =IF(V50="","","★") | V50: =IF(AND(Z50="表示",AA50="×"),AB50,"") | Y50: =IF(M50<>"","有","") | Z50: =IF($Y$14="有","表示","") | AA50: =IF(OR((M50&M51&M52&M53)<>"",SUM(M50:N53)<>0),"〇","×") -> × | AB50: 専属下請けの「会社数」を入力してください
D51: とび | E51: 2 | G51: 社 | O51: 社 | V51: =IF(AND(Z51="表示",AA51="×"),AB51,"") | Y51: =IF(M51<>"","有","") | Z51: =IF($Y$14="有","表示","")
D52: 土工 | E52: 1 | G52: 社 | O52: 社 | V52: =IF(AND(Z52="表示",AA52="×"),AB52,"") | Y52: =IF(M52<>"","有","") | Z52: =IF($Y$14="有","表示","")
D53: 機械土工 | E53: 0 | G53: 社 | O53: 社 | V53: =IF(AND(Z53="表示",AA53="×"),AB53,"") | Y53: =IF(M53<>"","有","") | Z53: =IF($Y$14="有","表示","")
D54: 専属協力会社(下請)労働者 | E54: 60 | G54: 人 | O54: 人 | U54: =IF(V54="","","★") | V54: =IF(AND(Z54="表示",AA54="×"),AB54,"") | Y54: =IF(M54<>"","有","") | Z54: =IF($Y$14="有","表示","") | AA54: =IF(M54<>"","〇","×") -> × | AB54: 専属下請けの「労働者数」を入力してください
B55: 18 | C55: 4週8休所の実施状況 | D55: プルダウンの中から選択 | E55: 一部実施している | U55: =IF(V55="","","★") | V55: =IF(AND(Z55="表示",AA55="×"),AB55,"") | Y55: =IF(M55<>"","有","") | Z55: =IF($Y$14="有","表示","") | AA55: =IF(M55<>"","〇","×") -> × | AB55: 「4週8休所」の実施状況をプルダウンの中から選択してください
B57: （注）No.3の「会員」とは
B58: 会員とは、日本軀体の次の8つの構成団体のいずれかの会員(賛助・特定会員を含む)を指します。
B59: いずれにも所属していない場合は、「非会員」を選択してください。
C60: 北海道建設躯体工事業協同組合
C61: 東北建設軀体工業会
C62: 東京建設軀体工業協同組合
C63: 一般社団法人東海建設軀体工業会
C64: 近畿建設軀体工業協同組合
C65: 中国建設軀体工業連合会
C66: 九州建設軀体工事業団体連合会
C67: 一般社団法人四国建設軀体工事業連合会

Sheet 入力内容点検シート
AA1: =調査票!AH1 -> No. | AB1: =調査票!AI1 -> 1 | AC1: =調査票!AJ1 -> 1-2 | AD1: =調査票!AK1 -> 2 | AE1: =調査票!AL1 -> 3 | AF1: =調査票!AM1 -> 3-2 | AG1: =調査票!AN1 -> 4 | AH1: =調査票!AO1 -> 4-2 | ... CA1: =調査票!CH1 -> 20
AA2: =調査票!AH2 -> 項目 | AB2: =調査票!AI2 -> 会社名 | AC2: =調査票!AJ2 -> フリガナ | AD2: =調査票!AK2 -> CCUS事業者ID | AE2: =調査票!AL2 -> 日本軀体構成団体 会員有無 | AF2: =調査票!AM2 -> 所属団体 | AG2: =調査票!AN2 -> 代表者役職・ 氏名 | AH2: =調査票!AO2 -> 0 | ... CA2: =調査票!CH2 -> 確認メッセージ
AA3: =調査票!AH3 -> 時刻 | AB3: =調査票!AI3 -> 正式社名 | AC3: =調査票!AJ3 -> 大文字変換処理 | AD3: =調査票!AK3 -> ID | AE3: =調査票!AL3 -> 会員有無 | AF3: =調査票!AM3 -> 構成団体名 | AG3: =調査票!AN3 -> 代表者役職 | AH3: =調査票!AO3 -> 氏名 | ... CA3: =調査票!CH3 -> 表示数
AA4: =調査票!AH4 -> 46296.314 | AB4: =調査票!AI4 -> 0 | AC4: =調査票!AJ4 | AD4: =調査票!AK4 -> ---22 | AE4: =調査票!AL4 -> 会員 | AF4: =調査票!AM4 -> 0 | AG4: =調査票!AN4 -> 0 | AH4: =調査票!AO4 -> 0 | ... CA4: =調査票!CH4
AA5: =調査票!AH5 -> 46296.314 | AB5: =調査票!AI5 | AC5: =調査票!AJ5 | AD5: =調査票!AK5 -> ---22 | AE5: =調査票!AL5 -> 会員 | AF5: =調査票!AM5 | AG5: =調査票!AN5 | AH5: =調査票!AO5 | ... BZ5: =調査票!CG5 -> 46327 | CA5: =IF(OR(CA4="",CA4=0),"",CA4)
D7: 調査冊子には、原則、以下の内容がそのまま掲載されますので、ご確認をお願いいたします。
D8: ※修正の必要がある場合は、「調査票」シートの入力値のほうを修正してください。 | K8: =調査票!V12 -> Ver.20251021
D9: =AB5 | I9: フリガナ | K9: 設立
I10: =AC5 | K10: =AM5
D11: 代表者 | E11: =AG5&" "&AH5 | I11: 資格保有者状況 （延べ人数）
D12: 所在地 | E12: ="〒 "&AI5 -> 〒 | G12: =AJ5 | I12: 資格名 | J12: １級 | K12: ２級
E13: =AK5 | I13: 建築士 | J13: =AX5 | K13: =AY5
E14: ="TEL : "&AL5 -> TEL : | I14: 土木施工管理技士 | J14: =AZ5 | K14: =BA5
D15: 資本金 | E15: =AN5 | I15: 建築施工管理技士 | J15: =BB5 | K15: =BC5
D16: 完工高 | E16: =AS5 | I16: とび技能士 | J16: =BD5 | K16: =BE5
D17: 主要取引先 | E17: =BN5 | G17: =BO5 | I17: 日本躯体 コンクリート 打込み・締固め工 | J17: =BF5 | K17: =BG5
E18: =BP5 | G18: =BQ5 | I18: 登録鳶・土工基幹技能者 | K18: =BH5
D19: 従業員数 | E19: 全従業員数 | G19: =AT5 | I19: CCUS技能者登録状況
E20: うち、とびの人数 | G20: =AU5 | I20: CCUS技能者登録者数 | K20: =BI5
E21: うち、土工の人数 | G21: =AV5 | I21: うち、能力評価 レベル４ の人数 （ゴールドカード保有者数） | K21: =BJ5
E22: その他(とび・土工以外) | G22: =AW5 | I22: うち、能力評価 レベル３ の人数 （シルバーカード保有者数） | K22: =BK5
D23: 協力会社への 依存度 | E23: 有無 | F23: =BR5 | G23: 割合 | H23: =BS5 | I23: うち、能力評価 レベル２ の人数 （ブルーカード保有者数） | K23: =BL5
D24: 専属 協力会社 | E24: とび土工 | F24: =BT5 | G24: とび | H24: =BU5 | I24: うち、能力評価 レベル１ の人数 （ホワイトカード保有者数） | K24: =BM5
E25: 土工 | F25: =BV5 | G25: 機械土工 | H25: =BW5 | I25: 4週8休所の 実施状況 | J25: =BY5
E26: 専属協力会社の労働者数 | H26: =BX5 | I26: =BZ5 -> 46327
D27: =AF5
D29: 以下の情報もあわせてご確認をお願いいたします。
D30: ■CCUS事業者ID | F30: =AD5 -> ---22
D31: ■決算月 | F31: =AO5
D32: ■本調査のご連絡先 | F32: =AP5&" 様" -> 様
F33: =AQ5 -> @

Sheet プルダウン
B2: 会員・非会員区分を選択してください。 | D2: 「会員」の場合は、所属団体を選択してください。 | F2: 決算月 | H2: 都道府県名 | J2: 4週8休所
B3: 会員 | D3: 北海道建設躯体工事業協同組合 | F3: 1 | H3: 北海道 | J3: 実施している
B4: 非会員 | D4: 東北建設軀体工業会 | F4: 2 | H4: 青森県 | J4: 一部実施している
D5: 東京建設軀体工業協同組合 | F5: 3 | H5: 岩手県 | J5: 実施していないが、検討中
D6: 一般社団法人東海建設軀体工業会 | F6: 4 | H6: 宮城県 | J6: 実施していない
D7: 近畿建設軀体工業協同組合 | F7: 5 | H7: 秋田県
D8: 中国建設軀体工業連合会 | F8: 6 | H8: 山形県
D9: 九州建設軀体工事業団体連合会 | F9: 7 | H9: 福島県
D10: 一般社団法人四国建設軀体工事業連合会 | F10: 8 | H10: 茨城県
D11: 上記のいずれにも所属していない | F11: 9 | H11: 栃木県
F12: 10 | H12: 群馬県
F13: 11 | H13: 埼玉県
F14: 12 | H14: 千葉県
H15: 東京都
H16: 神奈川県
H17: 新潟県
H18: 富山県
H19: 石川県
H20: 福井県
H21: 山梨県
H22: 長野県
H23: 岐阜県
H24: 静岡県
H25: 愛知県
H26: 三重県
... H49: 沖縄県

Sheet パス
A1: フル名称 | B1: =LEN(C1) -> 87 | C1: {=CELL("filename",C1)} -> \\192.168.1.222\Share\0900_経営実態調査事業\0800_2026年度調査\3000_発信メール\[調査票2026（会社名_■□建設）.xlsx]パス
A2: パス名 | B2: =LEN(C2) -> 61 | C2: {=LEFT(CELL("filename",C2),FIND("[",CELL("filename",C2))-1)} -> \\192.168.1.222\Share\0900_経営実態調査事業\0800_2026年度調査\3000_発信メール\ | F2: シート名の開始位置 | G2: =LEN(H2) -> 85 | H2: {=LEFT(CELL("filename",H2),FIND("]",CELL("filename",H2)))} -> \\192.168.1.222\Share\0900_経営実態調査事業\0800_2026年度調査\3000_発信メール\[調査票2026（会社名_■□建設）.xlsx]
A3: ファイル名 | B3: =B1-B2-(B1-G2) -> 24 | C3: =MID(C1,B2+2,B3-2) -> 調査票2026（会社名_■□建設）.xlsx
